BEGIN:VCALENDAR
VERSION:2.0
PRODID:-//wp-events-plugin.com//7.2.3.1//EN
TZID:Europe/Helsinki
X-WR-TIMEZONE:Europe/Helsinki
BEGIN:VEVENT
UID:0-32@kimonkyla.fi
DTSTART;TZID=Europe/Helsinki:20260604T100000
DTEND;TZID=Europe/Helsinki:20260604T100000
DTSTAMP:20260417T075358Z
URL:https://www.kimonkyla.fi/events/piha-ja-siivoustalkoot/
SUMMARY:Piha- ja siivoustalkoot
DESCRIPTION:Torstaina 4.6.2026 klo 10 alkaen.\n\nPihan siivousta ja nurkkie
 n kunnostusta\, tervetuloa talkoopäivään!
END:VEVENT
BEGIN:VTIMEZONE
TZID:Europe/Helsinki
X-LIC-LOCATION:Europe/Helsinki
BEGIN:DAYLIGHT
DTSTART:20260329T040000
TZOFFSETFROM:+0200
TZOFFSETTO:+0300
TZNAME:EEST
END:DAYLIGHT
END:VTIMEZONE
END:VCALENDAR